BEGIN:VCALENDAR
VERSION:2.0
PRODID:ics.py - http://git.io/lLljaA
BEGIN:VEVENT
DTEND:20260426T093000Z
LOCATION:BRISBANE AIRPORT DOMESTIC QLD
DTSTART:20260426T020000Z
SUMMARY:Work: Beverage Cell\, Fries
UID:34969def-1e44-4133-819e-65ddc1909247@3496.org
END:VEVENT
END:VCALENDAR